BEGIN:VCALENDAR
VERSION:2.0
PRODID:-//La Vilaine Bidouille - ECPv6.15.18//NONSGML v1.0//EN
CALSCALE:GREGORIAN
METHOD:PUBLISH
X-WR-CALNAME:La Vilaine Bidouille
X-ORIGINAL-URL:https://lavilainebidouille.fr
X-WR-CALDESC:Évènements pour La Vilaine Bidouille
REFRESH-INTERVAL;VALUE=DURATION:PT1H
X-Robots-Tag:noindex
X-PUBLISHED-TTL:PT1H
BEGIN:VTIMEZONE
TZID:Europe/Paris
BEGIN:DAYLIGHT
TZOFFSETFROM:+0100
TZOFFSETTO:+0200
TZNAME:CEST
DTSTART:20250330T010000
END:DAYLIGHT
BEGIN:STANDARD
TZOFFSETFROM:+0200
TZOFFSETTO:+0100
TZNAME:CET
DTSTART:20251026T010000
END:STANDARD
BEGIN:DAYLIGHT
TZOFFSETFROM:+0100
TZOFFSETTO:+0200
TZNAME:CEST
DTSTART:20260329T010000
END:DAYLIGHT
BEGIN:STANDARD
TZOFFSETFROM:+0200
TZOFFSETTO:+0100
TZNAME:CET
DTSTART:20261025T010000
END:STANDARD
BEGIN:DAYLIGHT
TZOFFSETFROM:+0100
TZOFFSETTO:+0200
TZNAME:CEST
DTSTART:20270328T010000
END:DAYLIGHT
BEGIN:STANDARD
TZOFFSETFROM:+0200
TZOFFSETTO:+0100
TZNAME:CET
DTSTART:20271031T010000
END:STANDARD
END:VTIMEZONE
BEGIN:VEVENT
DTSTART;TZID=Europe/Paris:20260428T180000
DTEND;TZID=Europe/Paris:20260428T200000
DTSTAMP:20260425T151742
CREATED:20260311T125655Z
LAST-MODIFIED:20260311T125655Z
UID:12272-1777399200-1777406400@lavilainebidouille.fr
SUMMARY:Rencontre
DESCRIPTION:
URL:https://lavilainebidouille.fr/index.php/evenement/rencontre-62/
LOCATION:La Redonnerie  Café-Atelier\, 7 rue Briangaud\, Redon\, 35600
END:VEVENT
BEGIN:VEVENT
DTSTART;TZID=Europe/Paris:20260505T180000
DTEND;TZID=Europe/Paris:20260505T200000
DTSTAMP:20260425T151742
CREATED:20260311T125800Z
LAST-MODIFIED:20260311T125800Z
UID:12274-1778004000-1778011200@lavilainebidouille.fr
SUMMARY:Rencontre
DESCRIPTION:
URL:https://lavilainebidouille.fr/index.php/evenement/rencontre-63/
LOCATION:La Redonnerie  Café-Atelier\, 7 rue Briangaud\, Redon\, 35600
END:VEVENT
BEGIN:VEVENT
DTSTART;TZID=Europe/Paris:20260512T180000
DTEND;TZID=Europe/Paris:20260512T200000
DTSTAMP:20260425T151742
CREATED:20260311T125929Z
LAST-MODIFIED:20260311T125929Z
UID:12276-1778608800-1778616000@lavilainebidouille.fr
SUMMARY:Rencontre
DESCRIPTION:
URL:https://lavilainebidouille.fr/index.php/evenement/rencontre-64/
LOCATION:La Redonnerie  Café-Atelier\, 7 rue Briangaud\, Redon\, 35600
END:VEVENT
BEGIN:VEVENT
DTSTART;TZID=Europe/Paris:20260519T180000
DTEND;TZID=Europe/Paris:20260519T200000
DTSTAMP:20260425T151742
CREATED:20260311T130009Z
LAST-MODIFIED:20260311T130009Z
UID:12278-1779213600-1779220800@lavilainebidouille.fr
SUMMARY:Rencontre
DESCRIPTION:
URL:https://lavilainebidouille.fr/index.php/evenement/rencontre-65/
LOCATION:La Redonnerie  Café-Atelier\, 7 rue Briangaud\, Redon\, 35600
END:VEVENT
BEGIN:VEVENT
DTSTART;TZID=Europe/Paris:20260526T180000
DTEND;TZID=Europe/Paris:20260526T200000
DTSTAMP:20260425T151742
CREATED:20260311T130519Z
LAST-MODIFIED:20260311T130519Z
UID:12282-1779818400-1779825600@lavilainebidouille.fr
SUMMARY:Rencontre
DESCRIPTION:
URL:https://lavilainebidouille.fr/index.php/evenement/rencontre-66/
LOCATION:La Redonnerie  Café-Atelier\, 7 rue Briangaud\, Redon\, 35600
END:VEVENT
BEGIN:VEVENT
DTSTART;TZID=Europe/Paris:20260602T180000
DTEND;TZID=Europe/Paris:20260602T200000
DTSTAMP:20260425T151742
CREATED:20260311T130654Z
LAST-MODIFIED:20260311T130654Z
UID:12284-1780423200-1780430400@lavilainebidouille.fr
SUMMARY:Rencontre
DESCRIPTION:
URL:https://lavilainebidouille.fr/index.php/evenement/rencontre-67/
LOCATION:La Redonnerie  Café-Atelier\, 7 rue Briangaud\, Redon\, 35600
END:VEVENT
BEGIN:VEVENT
DTSTART;TZID=Europe/Paris:20260609T180000
DTEND;TZID=Europe/Paris:20260609T200000
DTSTAMP:20260425T151742
CREATED:20260311T130752Z
LAST-MODIFIED:20260311T130752Z
UID:12286-1781028000-1781035200@lavilainebidouille.fr
SUMMARY:Rencontre
DESCRIPTION:
URL:https://lavilainebidouille.fr/index.php/evenement/rencontre-68/
LOCATION:La Redonnerie  Café-Atelier\, 7 rue Briangaud\, Redon\, 35600
END:VEVENT
END:VCALENDAR